BEGIN:VCALENDAR
VERSION:2.0
PRODID:-//Plone.org//NONSGML plone.app.event//EN
X-WR-TIMEZONE:Europe/Madrid
BEGIN:VEVENT
SUMMARY:Fisidabo 2024
DTSTART;TZID=Europe/Madrid:20240508T090000
DTEND;TZID=Europe/Madrid:20240508T130000
DTSTAMP:20260426T050005Z
UID:bfa56fdf765f47178b620e8a21053280@enginyeriafisica.etsetb.upc.edu
CREATED:20240505T093330Z
LAST-MODIFIED:20240505T093654Z
LOCATION:Parc d'atraccions del Tibidabo
URL:https://enginyeriafisica.etsetb.upc.edu/ca/esdeveniments/fisidabo-2024
END:VEVENT
BEGIN:VTIMEZONE
TZID:Europe/Madrid
X-LIC-LOCATION:Europe/Madrid
BEGIN:DAYLIGHT
DTSTART:20240331T030000
TZNAME:CEST
TZOFFSETFROM:+0100
TZOFFSETTO:+0200
END:DAYLIGHT
END:VTIMEZONE
END:VCALENDAR
