BEGIN:VCALENDAR
VERSION:2.0
PRODID:-//Plone.org//NONSGML plone.app.event//EN
X-WR-TIMEZONE:Europe/Madrid
BEGIN:VEVENT
SUMMARY:Modifcació de la matrícula i matrículació del TFG
DTSTART;TZID=Europe/Madrid:20210130T090000
DTEND;TZID=Europe/Madrid:20210202T230000
DTSTAMP:20260426T035054Z
UID:0b13af9ba08f46899b9bc035b12b0111@enginyeriafisica.etsetb.upc.edu
CONTACT:https://esecretaria.upc.edu
CREATED:20210123T165105Z
LAST-MODIFIED:20210123T165514Z
URL:https://enginyeriafisica.etsetb.upc.edu/ca/esdeveniments/modifcacio-ma
 tricula-tfg
END:VEVENT
BEGIN:VTIMEZONE
TZID:Europe/Madrid
X-LIC-LOCATION:Europe/Madrid
BEGIN:STANDARD
DTSTART:20201025T020000
TZNAME:CET
TZOFFSETFROM:+0200
TZOFFSETTO:+0100
END:STANDARD
END:VTIMEZONE
END:VCALENDAR
