BEGIN:VCALENDAR
VERSION:2.0
PRODID:-//Plone.org//NONSGML plone.app.event//EN
X-WR-TIMEZONE:Europe/Madrid
BEGIN:VEVENT
SUMMARY:Pizza-Talk DONLL
DTSTART;TZID=Europe/Madrid:20191210T130000
DTEND;TZID=Europe/Madrid:20191210T140000
DTSTAMP:20260426T050006Z
UID:1071e4740d304c48ad814785eb80e700@enginyeriafisica.etsetb.upc.edu
CREATED:20191127T120049Z
LAST-MODIFIED:20191127T120445Z
LOCATION:Sala Àgora del Campus Nord de la UPC
URL:https://enginyeriafisica.etsetb.upc.edu/ca/esdeveniments/pizza-talk-do
 nll
END:VEVENT
BEGIN:VTIMEZONE
TZID:Europe/Madrid
X-LIC-LOCATION:Europe/Madrid
BEGIN:STANDARD
DTSTART:20191027T020000
TZNAME:CET
TZOFFSETFROM:+0200
TZOFFSETTO:+0100
END:STANDARD
END:VTIMEZONE
END:VCALENDAR
