BEGIN:VCALENDAR
VERSION:2.0
PRODID:-//Plone.org//NONSGML plone.app.event//EN
X-WR-TIMEZONE:Europe/Madrid
BEGIN:VEVENT
SUMMARY:Pollastrada 2024
DTSTART;TZID=Europe/Madrid:20240425T133000
DTEND;TZID=Europe/Madrid:20240425T170000
DTSTAMP:20260426T053500Z
UID:e93dd4dc262549d6a8ca76c67eedaa19@enginyeriafisica.etsetb.upc.edu
CREATED:20240417T113920Z
LAST-MODIFIED:20240417T113933Z
LOCATION:Plaça de telecos del Campus Nord
URL:https://enginyeriafisica.etsetb.upc.edu/ca/esdeveniments/pollastrada-2
 024
END:VEVENT
BEGIN:VTIMEZONE
TZID:Europe/Madrid
X-LIC-LOCATION:Europe/Madrid
BEGIN:DAYLIGHT
DTSTART:20240331T030000
TZNAME:CEST
TZOFFSETFROM:+0100
TZOFFSETTO:+0200
END:DAYLIGHT
END:VTIMEZONE
END:VCALENDAR
