BEGIN:VCALENDAR
VERSION:2.0
PRODID:-//Plone.org//NONSGML plone.app.event//EN
X-WR-TIMEZONE:Europe/Madrid
BEGIN:VEVENT
SUMMARY:Sant Albert 2022
DTSTART;TZID=Europe/Madrid:20221117T143000
DTEND;TZID=Europe/Madrid:20221117T173000
DTSTAMP:20260426T035053Z
UID:7ecea940af5b41719ad72309b1b39e7a@enginyeriafisica.etsetb.upc.edu
CREATED:20221107T122931Z
LAST-MODIFIED:20221107T130009Z
LOCATION:Sala d'Actes de la FIB de l'edifici B6 al Campus Nord de la UPC
URL:https://enginyeriafisica.etsetb.upc.edu/ca/esdeveniments/sant-albert-2
 022
END:VEVENT
BEGIN:VTIMEZONE
TZID:Europe/Madrid
X-LIC-LOCATION:Europe/Madrid
BEGIN:STANDARD
DTSTART:20221030T020000
TZNAME:CET
TZOFFSETFROM:+0200
TZOFFSETTO:+0100
END:STANDARD
END:VTIMEZONE
END:VCALENDAR
